BEGIN:VCALENDAR
VERSION:2.0
PRODID:-//Rise Up 2 Thrive - ECPv6.15.20//NONSGML v1.0//EN
CALSCALE:GREGORIAN
METHOD:PUBLISH
X-WR-CALNAME:Rise Up 2 Thrive
X-ORIGINAL-URL:https://riseup2thrive.org
X-WR-CALDESC:Events for Rise Up 2 Thrive
REFRESH-INTERVAL;VALUE=DURATION:PT1H
X-Robots-Tag:noindex
X-PUBLISHED-TTL:PT1H
BEGIN:VTIMEZONE
TZID:America/Boise
BEGIN:DAYLIGHT
TZOFFSETFROM:-0700
TZOFFSETTO:-0600
TZNAME:MDT
DTSTART:20250309T090000
END:DAYLIGHT
BEGIN:STANDARD
TZOFFSETFROM:-0600
TZOFFSETTO:-0700
TZNAME:MST
DTSTART:20251102T080000
END:STANDARD
BEGIN:DAYLIGHT
TZOFFSETFROM:-0700
TZOFFSETTO:-0600
TZNAME:MDT
DTSTART:20260308T090000
END:DAYLIGHT
BEGIN:STANDARD
TZOFFSETFROM:-0600
TZOFFSETTO:-0700
TZNAME:MST
DTSTART:20261101T080000
END:STANDARD
BEGIN:DAYLIGHT
TZOFFSETFROM:-0700
TZOFFSETTO:-0600
TZNAME:MDT
DTSTART:20270314T090000
END:DAYLIGHT
BEGIN:STANDARD
TZOFFSETFROM:-0600
TZOFFSETTO:-0700
TZNAME:MST
DTSTART:20271107T080000
END:STANDARD
END:VTIMEZONE
BEGIN:VEVENT
DTSTART;TZID=America/Boise:20260507T150000
DTEND;TZID=America/Boise:20260507T190000
DTSTAMP:20260424T102021
CREATED:20260421T182018Z
LAST-MODIFIED:20260421T182018Z
UID:319-1778166000-1778180400@riseup2thrive.org
SUMMARY:Nonprofit Community Fair
DESCRIPTION:Valley County will come together and celebrate the final day of Idaho Gives with a Nonprofit Community Fair located in Downtown McCall. Over 20 different nonprofit organizations will host booths with free activities on May 7th\, from 3:00 – 7:00 pm. Hosted in partnership with the McCall Area Chamber of Commerce. \nThe Passport Challenge is new to the Community Fair this year. Pick one up at the Chamber booth or any other location and then visit all 5 locations for a stamp and return to the McCall Chamber booth for a prize. \nThere will be Online Giving Stations and QR Codes available for making donations to Idaho Gives easy while you’re attending. This event is family-friendly and focuses on fun and engaging activities while bringing awareness to our area’s nonprofits and the great services they provide. Rain or Shine. Free to everyone.
URL:https://riseup2thrive.org/event/nonprofit-community-fair/
LOCATION:McCall Public Library\, 218 Park Street\, McCall\, ID\, 83638\, United States
ATTACH;FMTTYPE=image/png:https://riseup2thrive.org/wp-content/uploads/2026/04/Screenshot-2026-04-21-at-2.19.46-PM.png
END:VEVENT
BEGIN:VEVENT
DTSTART;TZID=America/Boise:20260603T173000
DTEND;TZID=America/Boise:20260603T193000
DTSTAMP:20260424T102021
CREATED:20260421T182153Z
LAST-MODIFIED:20260421T182153Z
UID:324-1780507800-1780515000@riseup2thrive.org
SUMMARY:Rise Up 2 Wine Down
DESCRIPTION:More information to come!
URL:https://riseup2thrive.org/event/rise-up-2-wine-down/
LOCATION:Glass House McCall\, 1410 Mill Road\, McCall\, ID\, 83638\, United States
END:VEVENT
END:VCALENDAR